BEGIN:VCALENDAR
VERSION:2.0
PRODID:spatie/icalendar-generator
DESCRIPTION:Veranstaltungen von Heimat- und Geschichtsverein
X-WR-CALDESC:Veranstaltungen von Heimat- und Geschichtsverein
REFRESH-INTERVAL;VALUE=DURATION:PT1440M
X-PUBLISHED-TTL:PT1440M
BEGIN:VTIMEZONE
TZID:Etc/GMT+0
BEGIN:STANDARD
DTSTART:20241211T110000Z
TZOFFSETFROM:+0000
TZOFFSETTO:+0000
END:STANDARD
END:VTIMEZONE
BEGIN:VTIMEZONE
TZID:UTC
BEGIN:STANDARD
DTSTART:20250724T080653Z
TZOFFSETFROM:+0000
TZOFFSETTO:+0000
END:STANDARD
END:VTIMEZONE
BEGIN:VEVENT
UID:152-86
DTSTAMP:20260420T080653Z
SUMMARY:Sterbebilder-Ausstellung des Pfarrarchives vom 5. bis 7. Sept. in d
 er Maingauhalle
LOCATION:
ORGANIZER;CN=Olav Dornberg:MAILTO:od@edora.net
RRULE:FREQ=DAILY;UNTIL=20250907T000000Z
DTSTART;TZID=Etc/GMT+0:20250907T110000
DTEND;TZID=Etc/GMT+0:20250907T190000
X-ALT-DESC;FMTTYPE=TEXT/HTML:<p>Das Pfarrarchiv der St.Laurentius Pfarrei h
 at ca. 5000 Sterbebilder zusammengetragen\, die ihm von<br />\nKleinosthei
 mer Bürgerinnen und Bürgern überlassen wurden. Auch Sterbebilder von de
 ren Bekannten und<br />\nFreunden aus der näheren und weiteren Umgebung.</p>\n<p>Es handelt sich somit vor allem um Menschen aus dem Gemeindeleben 
 der letzten Jahrzehnte. So werden<br />\nviele bekannte Gesichter zu entde
 cken sein\, die die Erinnerung an die Verstorbenen wach halten.</p>\n<p>Na
 türlich sind auch Sterbebilder von Menschen darunter\, die beispielsweise
  bereits 1826 geboren waren<br />\nund auch im vorletzten Jahrhundert gest
 orben sind. Auf 122 Tafeln ist also ein Querschnitt über fast 200<br />\n
 Jahre Kleinostheimer Leben und Sterben zu sehen.</p>\n<p>Sterbebilder werd
 en meist bei Beerdigungen ausgelegt und somit wird der bzw. die Verstorben
 e dem<br />\nöffentlichen Gedenken in Wort und auch Bild in Erinnerung ge
 stellt.</p>\n<p>Aus diesem Grunde bitten wir auch im Vorfeld alle Mitbürg
 er\, die gegen eine Präsentation des Sterbebildes<br />\neines Angehörig
 en Bedenken oder Einwände haben\, sich beim Pfarrarchiv-Team zu melden. A
 m<br />\neinfachsten geht es zunächst per E-Mail an: archiv-st.laurentius
 @web.de.</p>\n<p>Maingauhalle\, Kleiner Kultursaal\, Ludwigstr. 25\, Klein
 ostheim<br />\nFreitag 05.09.2025 11:00 Uhr bis 19:00 Uhr<br />\nSamstag 0
 6.09.2025 11:00 Uhr bis 19:00 Uhr<br />\nSonntag 07.09.2025 11:00 Uhr bis 
 19:00 Uhr</p>\n<p>Der Eintritt ist frei.<br />\nFür Kaffee und Kuchen ist
  gesorgt.</p>\n<p>Versanstalter: Pfarrarchiv der St.Laurentius Pfarrei Kle
 inostheim</p>\n
CATEGORIES:General
URL;VALUE=URI:https://geschichtsverein-kleinostheim.de/mc-events/sterbebild
 er-ausstellung-des-pfarrarchives-vom-5-bis-7-sept-in-der-maingauhalle/?mc_
 id=152
METHOD:PUBLISH
END:VEVENT
END:VCALENDAR