BEGIN:VCALENDAR
VERSION:2.0
PRODID:spatie/icalendar-generator
DESCRIPTION:Veranstaltungen von Heimat- und Geschichtsverein
X-WR-CALDESC:Veranstaltungen von Heimat- und Geschichtsverein
REFRESH-INTERVAL;VALUE=DURATION:PT1440M
X-PUBLISHED-TTL:PT1440M
BEGIN:VTIMEZONE
TZID:Etc/GMT+0
BEGIN:STANDARD
DTSTART:20240717T150000Z
TZOFFSETFROM:+0000
TZOFFSETTO:+0000
END:STANDARD
END:VTIMEZONE
BEGIN:VTIMEZONE
TZID:UTC
BEGIN:STANDARD
DTSTART:20250723T132302Z
TZOFFSETFROM:+0000
TZOFFSETTO:+0000
END:STANDARD
END:VTIMEZONE
BEGIN:VEVENT
UID:120-70
DTSTAMP:20260419T132302Z
SUMMARY:Zusatzausstellulng \"große Ostereier-Sammlung\"
LOCATION:
ORGANIZER;CN=Olav Dornberg:MAILTO:od@edora.net
DTSTART;TZID=Etc/GMT+0:20250413T150000
DTEND;TZID=Etc/GMT+0:20250413T180000
X-ALT-DESC;FMTTYPE=TEXT/HTML:<p>Für die Osterzeit haben wir die aktuelle A
 usstellung erweitert mit der Sonderausstellung \"große Ostereiersammlung\
 "<br />\nmit über 200 Ostereiern\, liebevoll in über 40 Techniken und Ma
 terialien hergestellt.</p>\n<p>Die Sonderausstellung wird zur akutuellen A
 usstellung \"unsere Kindheit - wie es damals war\" angeboten.<br />\nEintr
 itt wie immer kostenfrei. Wir freune uns auf Ihren Besuch.</p>\n<p>Termine
 : So. 09.03. und So. 23.03.2025 von 14-17Uhr.<br />\nund dann nach der Zei
 tumstellung am So. 13.04. und 27.04.2025 von 15 - 18Uhr.</p>\n
CATEGORIES:General
URL;VALUE=URI:https://geschichtsverein-kleinostheim.de/mc-events/zusatzauss
 tellulng-grosse-ostereier-sammlung-2/
METHOD:PUBLISH
END:VEVENT
END:VCALENDAR